BEGIN:VCALENDAR
VERSION:2.0
PRODID:-//AquaVie Fitness + Wellness Club - ECPv6.15.20//NONSGML v1.0//EN
CALSCALE:GREGORIAN
METHOD:PUBLISH
X-ORIGINAL-URL:https://www.aquaviewellness.com
X-WR-CALDESC:Events for AquaVie Fitness + Wellness Club
REFRESH-INTERVAL;VALUE=DURATION:PT1H
X-Robots-Tag:noindex
X-PUBLISHED-TTL:PT1H
BEGIN:VTIMEZONE
TZID:America/Los_Angeles
BEGIN:DAYLIGHT
TZOFFSETFROM:-0800
TZOFFSETTO:-0700
TZNAME:PDT
DTSTART:20250309T100000
END:DAYLIGHT
BEGIN:STANDARD
TZOFFSETFROM:-0700
TZOFFSETTO:-0800
TZNAME:PST
DTSTART:20251102T090000
END:STANDARD
BEGIN:DAYLIGHT
TZOFFSETFROM:-0800
TZOFFSETTO:-0700
TZNAME:PDT
DTSTART:20260308T100000
END:DAYLIGHT
BEGIN:STANDARD
TZOFFSETFROM:-0700
TZOFFSETTO:-0800
TZNAME:PST
DTSTART:20261101T090000
END:STANDARD
BEGIN:DAYLIGHT
TZOFFSETFROM:-0800
TZOFFSETTO:-0700
TZNAME:PDT
DTSTART:20270314T100000
END:DAYLIGHT
BEGIN:STANDARD
TZOFFSETFROM:-0700
TZOFFSETTO:-0800
TZNAME:PST
DTSTART:20271107T090000
END:STANDARD
END:VTIMEZONE
BEGIN:VEVENT
DTSTART;TZID=America/Los_Angeles:20260510T070000
DTEND;TZID=America/Los_Angeles:20260510T190000
DTSTAMP:20260422T051118
CREATED:20260413T184808Z
LAST-MODIFIED:20260413T184808Z
UID:10403-1778396400-1778439600@www.aquaviewellness.com
SUMMARY:Sweat Date with Mom
DESCRIPTION:Treat Mom to a wellness escape this Mother’s Day.\nAquaVie members are invited to bring her in on a complimentary day pass – Sunday\, May 10\, during operating hours (7am-7pm). Simply redeem at the AquaVie front desk and have your guest complete a waiver upon entry. A perfect way to sweat\, relax\, and celebrate her.
URL:https://www.aquaviewellness.com/events/sweat-date-with-mom/
ATTACH;FMTTYPE=image/jpeg:https://www.aquaviewellness.com/wp-content/uploads/2026/04/AQV-Spin-Class-0751-Edit-V1-1200x800-5b2df79.jpg
END:VEVENT
END:VCALENDAR